BEGIN:VCALENDAR
VERSION:2.0
PRODID:-//ChamberMaster//Event Calendar 2.0//EN
METHOD:PUBLISH
X-PUBLISHED-TTL:P3D
REFRESH-INTERVAL:P3D
CALSCALE:GREGORIAN
BEGIN:VEVENT
DTSTART:20240418T210000Z
DTEND:20240418T230000Z
X-MICROSOFT-CDO-ALLDAYEVENT:FALSE
SUMMARY:2024 MABA Happy Hour - Hosted by FLOOR360
DESCRIPTION:Who doesn't love a drink with fellow industry peers after work?\n\n\nJoin us for refreshments at FLOOR360!\n\n5117 Verona Road\, Fitchburg\, WI 53711
X-ALT-DESC;FMTTYPE=text/html:<h2 style="font-style:italic\;">&nbsp\;</h2>\n\n<p><strong style="font-size: 18px\;"><span background-color:="" trebuchet="">Who doesn&#39\;t love a drink with fellow industry peers after work?</span></strong></p>\n<br />\n<span style="font-size:18px\;"><strong><span background-color:="" style="color: rgb(51\, 51\, 51)\; font-family: sans-serif\, Arial\, Verdana\, " trebuchet="">Join us for refreshments at FLOOR360!</span></strong><br />\n5117 Verona Road\, Fitchburg\, WI 53711</span>
LOCATION:FLOOR360 5117 Verona Road Fitchburg\, WI
UID:e.9187.579
SEQUENCE:3
DTSTAMP:20260426T014512Z
URL:http://member.maba.org/events/details/2024-maba-happy-hour-hosted-by-floor360-579
END:VEVENT

END:VCALENDAR
