BEGIN:VCALENDAR
VERSION:2.0
PRODID:-//ChamberMaster//Event Calendar 2.0//EN
METHOD:PUBLISH
X-PUBLISHED-TTL:P3D
REFRESH-INTERVAL:P3D
CALSCALE:GREGORIAN
BEGIN:VEVENT
DTSTART:20240613T220000Z
DTEND:20240614T020000Z
X-MICROSOFT-CDO-ALLDAYEVENT:FALSE
SUMMARY:2024 Parade of Homes Preview Party
DESCRIPTION:Held at the Golden Ponds Parade of Homes site in Waunakee\, the Preview Party is your chance to get a sneak peek at the 2024 Parade of Homes! \n\n\n\nTicket price includes BBQ dinner from Blowin' Smoke BBQ\, along with hosted beer and hard seltzer from Karben4.\n\n\n\nTickets will be available for pick-up at MABA's office the week of June 3\, 2024. No refunds. Tickets are pre-sale only and available for purchase by MABA members only. Physical\, printed ticket required for entry!\n\n\n\nIf buying multiple tickets online\, you do not need to know your attendee's names--simply leave the name field blank and continue on through the registration process.\n\n\n\nPARKING & SHUTTLE INFORMATION:\n\nShuttle service - Park at Rex's Innkeeper (301 N. Century Avenue\, Waunakee) and catch the shuttle to and from the Parade site\n\nLimited on-site parking - Park at lots at Westbridge Park (on Welcome Blvd) and on Kopp Rd. Limited street parking is also available in the Golden Ponds and Westbridge neighborhoods.
X-ALT-DESC;FMTTYPE=text/html:<p><br />\n<span style="font-size:14px\;"><span style="font-family:verdana\;">Held at the Golden Ponds Parade of Homes site in Waunakee\, the Preview Party is your chance to get a sneak peek at the 2024 Parade of Homes!&nbsp\;<br />\n<br />\nTicket price includes BBQ dinner from Blowin&#39\; Smoke BBQ\, along with hosted beer and hard seltzer from Karben4.<br />\n<br />\nTickets will be available for pick-up at MABA&#39\;s office the week of June 3\, 2024. No refunds. Tickets are pre-sale only and available for purchase by MABA members only. <em><strong>Physical\, printed ticket required for entry!</strong></em><br />\n<br />\nIf buying multiple tickets online\, you do not need to know your attendee&#39\;s names--simply leave the name field blank and continue on through the registration process.<br />\n<br />\n<span style="font-size:16px\;"><strong><span style="background-color:#FFFF00\;">PARKING &amp\; SHUTTLE INFORMATION:</span></strong><br />\n<u>Shuttle service</u> - Park at Rex&#39\;s Innkeeper (301 N. Century Avenue\, Waunakee) and catch the shuttle to and from the Parade site<br />\n<u>Limited on-site parking</u> - Park at lots at Westbridge Park (on Welcome Blvd) and on Kopp Rd. Limited street parking is also available in the Golden Ponds and Westbridge neighborhoods.</span></span></span></p>\n
LOCATION:Golden Ponds Parade of Homes Site 907 Roger Ct\, Waunakee PARKING & SHUTTLE INFORMATION: Shuttle service - Park at Rex's Innkeeper (301 N. Century Avenue\, Waunakee) and catch the shuttle to and from the Parade site Limited on-site parking - Park at lots at Westbridge Park (on Welcome Blvd) and on Kopp Rd. Limited street parking is also available in the Golden Ponds and Westbridge neighborhoods.
UID:e.9187.585
SEQUENCE:3
DTSTAMP:20260425T211331Z
URL:http://member.maba.org/events/details/2024-parade-of-homes-preview-party-585
END:VEVENT

END:VCALENDAR
