BEGIN:VCALENDAR
VERSION:2.0
PRODID:-//ChamberMaster//Event Calendar 2.0//EN
METHOD:PUBLISH
X-PUBLISHED-TTL:P3D
REFRESH-INTERVAL:P3D
CALSCALE:GREGORIAN
BEGIN:VEVENT
DTSTART:20251015T200000Z
DTEND:20251015T220000Z
X-MICROSOFT-CDO-ALLDAYEVENT:FALSE
SUMMARY:2025 Builder Exclusive Education Series on Wall Bracing
DESCRIPTION:You're Invited: Builder Exclusive Wall Bracing Education Event \n\n1. Simplifying UDC Wall Bracing Requirements | Earn 1 CEU credit\n\nThis course is taught by Jacquelyn Miller\, from APA\, Engineered Wood Association. She's a civil engineer with a background in structural design and a passion for sustainability.\n\n\n\nJoin us as this course breaks down complex wall bracing codes into three simple steps. Learn how to address unique challenges like attics\, tall walls\, and walk-out basements while gaining hands-on experience with APA's free online wall bracing calculator.\n\n\n\n2. Sponsor & Vendor Presentations\n\nRep's from Marling Lumber & HomeWorks\, LP Building Solutions\, and Simpson Strong-Tie will talk briefly about their products and provide top tips from industry experts!\n\n\n\n3. Inspection Challenges: Wall Bracing issues and More! \n\nThis class\, taught by Shannon Davis\, plan reviewer from City of Madison\, will touch on wall bracing and other difficult areas in permitting and inspection. \n\n\nCome for networking and snacks - leave with new or refined skills for design\, code compliance\, and simplifying future projects.
X-ALT-DESC;FMTTYPE=text/html:<p data-end="137" data-start="69"><span style="font-family:verdana\;"><span style="font-size:16px\;"><strong data-end="135" data-start="69">You&#39\;re Invited: Builder Exclusive Wall Bracing Education Event&nbsp\;</strong></span></span></p>\n\n<p data-end="137" data-start="69"><span style="font-family:verdana\;"><span style="font-size:16px\;"><strong data-end="135" data-start="69">1. Simplifying UDC Wall Bracing Requirements |&nbsp\;</strong>Earn 1 CEU credit</span></span><br />\n<span style="font-family:verdana\;"><span style="font-size:16px\;">This course is taught by <em>Jacquelyn Miller\, from APA\, Engineered Wood Association</em>. She&#39\;s a civil engineer&nbsp\;with a background in structural design and a passion for sustainability.<br />\n<br />\nJoin us as&nbsp\;this course breaks down complex wall bracing codes into three simple steps. Learn how to address unique challenges like attics\, tall walls\, and walk-out basements while gaining hands-on experience with APA&#39\;s free online wall bracing calculator.</span></span><br />\n<br />\n<span style="font-family: verdana\;"><span style="font-size: 16px\;"><strong data-end="135" data-start="69">2. Sponsor &amp\; Vendor Presentations</strong><br />\nRep&#39\;s from <em>Marling Lumber &amp\; HomeWorks\, LP Building Solutions\, </em>and <em>Simpson Strong-Tie </em>will talk briefly about their products and provide top tips from industry experts!</span></span><br />\n<br />\n<span style="font-family:verdana\;"><span style="font-size:16px\;"><strong data-end="135" data-start="69">3. Inspection Challenges: Wall Bracing issues and More!&nbsp\;</strong></span></span><br />\n<span style="font-family:verdana\;"><span style="font-size:16px\;">This class\, taught by <em>Shannon Davis\, plan reviewer from City of Madison\,</em> will touch on wall bracing and other difficult areas in permitting and inspection.&nbsp\;</span></span></p>\n<br />\n<em><strong><span style="font-family: verdana\; font-size: 16px\;">Come for networking and snacks - leave with new or refined skills for design\, code compliance\, and simplifying future projects.</span></strong></em>
LOCATION:Marling Lumber & HomeWorks 613 Atlas Avenue\, Madison
UID:e.9187.653
SEQUENCE:3
DTSTAMP:20260424T141417Z
URL:http://member.maba.org/events/details/2025-builder-exclusive-education-series-on-wall-bracing-653
END:VEVENT

END:VCALENDAR
