BEGIN:VCALENDAR
VERSION:2.0
PRODID:-//ChamberMaster//Event Calendar 2.0//EN
METHOD:PUBLISH
X-PUBLISHED-TTL:P3D
REFRESH-INTERVAL:P3D
CALSCALE:GREGORIAN
BEGIN:VEVENT
DTSTART:20260909T143000Z
DTEND:20260909T230000Z
X-MICROSOFT-CDO-ALLDAYEVENT:FALSE
SUMMARY:2026 MABA Golf Outing Presented by Baer Insurance and Frankenmuth Insurance
DESCRIPTION:Who's ready for some golf? You're in luck! MABA is hosting this years golf outing\, presented by Baer Insurance and Frankenmuth Insurance\, at Pleasant View Golf Course on September 9\, 2026. Situated on hills approximately 300 feet above Lake Mendota\, Pleasant View Golf Course provides a panoramic view of the City of Madison. \n\n\n	\n	9:30 AM Registration & Bloody Mary Bar Starts\n	\n	\n	11:00 AM Shotgun Start\n	\n	\n	4:00 PM After-Party Starts\n	\n\n\nRegistration includes 18 holes of golf with cart\, hot lunch at the turn\, Bloody Mary\, drink tickets\, and after party\n\n\n\nInterested in sponsorship opportunities? Contact Lisa at lkratz@maba.org or 608-288-1134 to sign up!
X-ALT-DESC;FMTTYPE=text/html:<p><br />\n<span style="font-size:18px\;"><span style="font-family:arial\;">Who&#39\;s ready for some golf? You&#39\;re in luck! MABA is hosting this years golf outing\, presented by <a href="http://www.baerinsurance.com"><span style="color:#0000CD\;">Baer Insurance</span></a> and <a href="http://www.fmins.com"><span style="color:#0000CD\;">Frankenmuth Insurance</span></a>\, at Pleasant View Golf Course on September 9\, 2026. Situated on hills approximately 300 feet above Lake Mendota\, Pleasant View Golf Course provides a panoramic view of the City of Madison.&nbsp\;</span></span></p>\n\n<ul>\n	<li>\n	<p><span style="font-family: arial\;">9:30 AM Registration &amp\; Bloody Mary Bar Starts</span></p>\n	</li>\n	<li>\n	<p><span style="font-family: arial\;">11:00 AM Shotgun Start</span></p>\n	</li>\n	<li>\n	<p><span style="font-family: arial\;">4:00 PM After-Party Starts</span></p>\n	</li>\n</ul>\n\n<p>Registration includes 18 holes of golf with cart\, hot lunch at the turn\, Bloody Mary\, drink tickets\, and after party<br />\n<br />\n<span style="font-family: arial\;">Interested in sponsorship opportunities? Contact Lisa at lkratz@maba.org or <a href="tel:608-288-1134">608-288-1134</a> to sign up!</span></p>\n<scribe-shadow data-crx="okfkdaglfjjjfefdcppliegebpoegaii" id="crxjs-ext" style="position: fixed\; width: 0px\; height: 0px\; top: 0px\; left: 0px\; z-index: 2147483647\; overflow: visible\; visibility: visible\;"></scribe-shadow>
LOCATION:Pleasant View Golf Course 1322 Pleasant View Road\, Middleton
UID:e.9187.709
SEQUENCE:3
DTSTAMP:20260424T143550Z
URL:http://member.maba.org/events/details/2025-maba-golf-outing-presented-by-baer-insurance-and-frankenmuth-insurance-709
END:VEVENT

END:VCALENDAR
