BEGIN:VCALENDAR
VERSION:2.0
PRODID:-//ChamberMaster//Event Calendar 2.0//EN
METHOD:PUBLISH
X-PUBLISHED-TTL:P3D
REFRESH-INTERVAL:P3D
CALSCALE:GREGORIAN
BEGIN:VEVENT
DTSTART:20260511T170000Z
DTEND:20260511T170000Z
X-MICROSOFT-CDO-ALLDAYEVENT:FALSE
SUMMARY:2026 MABA Golf League
DESCRIPTION:REGISTRATION IS CLOSED\n\n\n\nIt's time for the MABA Golf League!\n\n\n\nSign up to tee off with your favorite golfers at Pleasant View Golf Course! \n\n\n\nLeague Dates:\n\n\n	April 27\n	May 4\, 11 & 18\n	August 3\, 10\, 17\, 24 & 31\n	September 14\n\n10 weeks on Monday's (excluding some weeks) with double tee times (most weeks) from 1:30 to 2:00\n\n\n\nIncludes 9 holes with cart\, rotating between Lake\, Prairie & Woods courses. \n\n\n\nNEW in 2026 - Enjoy a complimentary drink after your round! The perfect setting for relaxed networking.
X-ALT-DESC;FMTTYPE=text/html:<p><span style="color:#B22222\;"><em><strong><span style="font-size:24px\;">REGISTRATION IS CLOSED</span></strong></em></span><br />\n<br />\n<em><strong><span style="font-size:24px\;">It&#39\;s time for the MABA Golf League!</span></strong></em><br />\n<br />\nSign up to tee off with your favorite golfers at Pleasant View Golf Course!&nbsp\;<br />\n<br />\n<strong>League Dates:</strong></p>\n\n<ul>\n	<li>April 27</li>\n	<li>May 4\, 11&nbsp\;&amp\; 18</li>\n	<li>August 3\, 10\, 17\, 24&nbsp\;&amp\; 31</li>\n	<li>September 14</li>\n</ul>\n10 weeks on Monday&#39\;s (excluding some weeks) with double tee times (most weeks) from 1:30 to 2:00<br />\n<br />\nIncludes 9 holes with cart\, rotating between Lake\, Prairie &amp\; Woods courses.&nbsp\;<br />\n<br />\nNEW in 2026 - Enjoy a complimentary drink after your round! The perfect setting for relaxed networking.&nbsp\;
LOCATION:Pleasant View Golf Course
UID:e.9187.747
SEQUENCE:3
DTSTAMP:20260421T091545Z
URL:http://member.maba.org/events/details/2026-maba-golf-league-05-11-2026-747
END:VEVENT

END:VCALENDAR
