BEGIN:VCALENDAR
VERSION:2.0
PRODID:-//ChamberMaster//Event Calendar 2.0//EN
METHOD:PUBLISH
X-PUBLISHED-TTL:P3D
REFRESH-INTERVAL:P3D
CALSCALE:GREGORIAN
BEGIN:VEVENT
DTSTART:20260211T230000Z
DTEND:20260212T020000Z
X-MICROSOFT-CDO-ALLDAYEVENT:FALSE
SUMMARY:2026 Winter Blues\, Booze\, and Wine
DESCRIPTION:Shake off the Winter Blues!\n\nEnjoy booze\, wine\, snacks\, networking  and maybe taste some bourbon(s). Not a bourbon fan? No problem we've got plenty of other drinks to choose from.\n\nBourbon Tastings & Experiences\n\nWe'll have tasty selection of bourbon flights available for purchase (more information coming soon!) including small-batch\, barrel-strength\, and bottled-in-bond bourbons.\n\nAuction Alert!\n\nDuring the event\, we'll host a LIVE AUCTION featuring 10+ bottles of bourbon.\n\n\n\nPayment for the Bourbon Tasting and Live Auction Items are due at the event\, by cash\, check or credit card. The funds will be used to support our issue advocacy campaign -- A Better Dane County.
X-ALT-DESC;FMTTYPE=text/html:<p data-end="281" data-start="91"><span style="font-size:20px\;"><span style="font-family:tahoma\;"><strong data-end="122" data-start="91">Shake off the Winter Blues!</strong><br data-end="125" data-start="122" />\nEnjoy <strong data-end="195" data-start="131">booze\, wine\, snacks\, networking&hellip\; and maybe taste some bourbon(s)</strong>. Not a bourbon fan? No problem&mdash\;<strong data-end="278" data-start="227">we&rsquo\;ve got plenty of other drinks to choose from</strong>.</span></span></p>\n\n<p data-end="466" data-start="283"><span style="font-size:20px\;"><span style="font-family:tahoma\;"><strong data-end="317" data-start="283">Bourbon Tastings &amp\; Experiences</strong><br data-end="320" data-start="317" />\nWe&#39\;ll have tasty selection of bourbon flights available for purchase (more information coming soon!) including&nbsp\;<strong data-end="394" data-start="342">small-batch\, barrel-strength\, and bottled-in-bond bourbons.</strong></span></span></p>\n\n<p data-end="576" data-start="468"><span style="font-size:20px\;"><span style="font-family:tahoma\;"><strong data-end="486" data-start="468">Auction Alert!</strong><br data-end="489" data-start="486" />\nDuring the event\, we&rsquo\;ll host a <strong data-end="536" data-start="520">LIVE AUCTION</strong> featuring <strong data-end="573" data-start="547">10+ bottles of bourbon</strong>.</span></span></p>\n\n<p data-end="744" data-start="578"><br />\n<span font-size:="" style="color: rgb(51\, 51\, 51)\; font-family: sans-serif\, Arial\, Verdana\, " trebuchet=""><em><span style="color: rgb(178\, 34\, 34)\;">Payment for the Bourbon Tasting and Live Auction Items are due at the event\, by cash\, check or credit card. The funds will be used to support our issue advocacy campaign&nbsp\;-- A Better Dane County.&nbsp\;</span></em></span></p>\n
LOCATION:Pella Windows & Doors 2101 W. Beltline Hwy\, Madison
UID:e.9187.663
SEQUENCE:3
DTSTAMP:20260424T071515Z
URL:http://member.maba.org/events/details/2026-winter-blues-booze-and-wine-663
END:VEVENT

END:VCALENDAR
