BEGIN:VCALENDAR
VERSION:2.0
PRODID:-//ChamberMaster//Event Calendar 2.0//EN
METHOD:PUBLISH
X-PUBLISHED-TTL:P3D
REFRESH-INTERVAL:P3D
CALSCALE:GREGORIAN
BEGIN:VEVENT
DTSTART:20260305T153000Z
DTEND:20260305T230000Z
X-MICROSOFT-CDO-ALLDAYEVENT:FALSE
SUMMARY:BuildX 2026 - Women in The Construction Industry Wisconsin Conference
DESCRIPTION:BUILDX IS SOLD OUT! \n\nThank you to everyone who registered! If you missed out on registering\, please click on "Register" and add your name to the waiting list. We'll reach out if we have any cancellations. \n\n\n\nMadison Area Builders Association (MABA)\, Metro Builders Association (MBA)\, and NARI of Madison (NARI) invite you to the 5th Annual BuildX Conference!\n\n\nBuildX is dedicated to providing the best in professional and personal growth for women in the construction industry.  Come learn from industry leaders and network with colleagues from around Wisconsin!\n\n\n\nKeynote Speaker is Ronda Conger -- Builder\, Best Selling Author\, and Keynote Speaker\n\nClosing Speaker is Jackie Schneider -- Design Leader\, and Sales & Marketing Executive at Kohler\n\n\n\nDriving & Parking - The John Nolen Drive Reconstruction Project has begun and is expected to continue through 2026. This major infrastructure project may affect travel routes near Monona Terrace. There are several options for parking\, in addition to the Monona Terrace parking garage. There is another group event at Monona Terrace on the same day\, so there is the possibility that the ramp could fill. Below are some nearby options (VIEW MAP):\n\n\n	Monona Terrace parking garage (One John Nolen Drive\, Madison) - $3.00 per hour\, $16.00 daily maximum\n	Wilson Street garage (20 E. Wilson Street\, Madison) - $1.80 per hour\, $14.00 daily maximum\n	Capital Square South (113 S. Henry Street\, Madison)\n	Capital Square North (218 E. Mifflin Street\, Madison)\n\n \n\nHOTEL ROOM BLOCK EXTENDED TO FEBRUARY 19!  A block of rooms are available at the Hilton Monona Terrace for $189/night. Here is the link: Booking Link Guests can also call Hilton reservations at 800-445-8667 or call the hotel directly at 608-255-5100 and reference the group code: 91Y.\n\n \n\nSorry\, the Friday Wellness event is full! Reach out to Lisa (lkratz@maba.org\, or 608-288-1134) to be put on a waiting list in case of cancellations. -- Start off Friday\, March 6 (8:00am start time) at the Hilton Madison Monona Terrace with a morning of wellness\, sponsored by Drexel Building Supply! Join us for a grounding\, educational session focused on understanding burnout\, stress\, and nervous system regulation -- followed by a restorative somatic breathwork and sound bath experience. A light breakfast will also be served. This event is free to attend\, but space is limited! After you register for the BuildX Conference\, scroll down to the Additional Items and click the +/- button to add on "March 6 Wellness Morning".\n\n\n\nMore information is available at www.BuildXWisconsin.com.
X-ALT-DESC;FMTTYPE=text/html:<p><span style="font-size:28px\;"><span style="font-family:arial\;"><strong><span style="color:#ff00ff\;">BUILDX IS SOLD OUT!&nbsp\;</span></strong></span></span></p>\n\n<p><span style="font-size:18px\;"><span style="font-family:arial\;">Thank you to everyone who registered! If you missed out on registering\, please click on &ldquo\;Register&rdquo\; and add your name to the waiting list. We&rsquo\;ll&nbsp\;reach out if we have any cancellations.&nbsp\;</span></span><br />\n<br />\n<span style="font-family: arial\; font-size: 16px\;">Madison Area Builders Association (MABA)\, Metro&nbsp\;Builders Association&nbsp\;(MBA)\, and NARI of Madison (NARI) invite you to the 5th&nbsp\;Annual BuildX Conference!</span></p>\n<br />\n<span style="font-size:16px\;"><span style="font-family:arial\;">BuildX is dedicated to providing the best in professional and personal growth for women in the construction industry.&nbsp\; Come learn from industry leaders and network with colleagues from around Wisconsin!<br />\n<br />\nKeynote Speaker is <em>Ronda Conger</em>&nbsp\;-- Builder\, Best Selling Author\, and Keynote Speaker<br />\nClosing Speaker is <em>Jackie Schneider </em>-- Design Leader\, and Sales &amp\; Marketing Executive at Kohler<br />\n<br />\n<strong>Driving &amp\; Parking</strong> - The John Nolen Drive Reconstruction Project has begun and is expected to continue through 2026. This major infrastructure project may affect travel routes near Monona Terrace. There are several options for parking\, in addition to the Monona Terrace parking garage. There is another group event at Monona Terrace on the same day\, so there is the possibility that the ramp could fill. Below are some nearby options (<strong><a href="https://chambermaster.blob.core.windows.net/userfiles/UserFiles/chambers/9187/File/DowntownMadisonParkingLocations.jpg"><span style="color:#008080\;">VIEW MAP</span></a></strong>):</span></span>\n\n<ul>\n	<li><span style="font-size:16px\;"><span style="font-family:arial\;">Monona Terrace parking garage (One John Nolen Drive\, Madison) - $3.00 per hour\, $16.00 daily maximum</span></span></li>\n	<li><span style="font-size:16px\;"><span style="font-family:arial\;">Wilson Street garage (20 E. Wilson Street\, Madison) - $1.80 per hour\, $14.00 daily maximum</span></span></li>\n	<li><span style="font-size:16px\;"><span style="font-family:arial\;">Capital Square South (113 S. Henry Street\, Madison)</span></span></li>\n	<li><span style="font-size:16px\;"><span style="font-family:arial\;">Capital Square North (218 E. Mifflin Street\, Madison)</span></span></li>\n</ul>\n&nbsp\;<br />\n<strong><span style="color:#B22222\;">HOTEL ROOM BLOCK EXTENDED TO FEBRUARY 19!&nbsp\;</span></strong> A block of rooms are available at the Hilton Monona Terrace for $189/night. Here is the link:&nbsp\;<strong><a href="https://www.hilton.com/en/book/reservation/deeplink/?ctyhocn=MSNMHHF&amp\;groupCode=91Y&amp\;arrivaldate=2026-03-04&amp\;departuredate=2026-03-06&amp\;cid=OM\,WW\,HILTONLINK\,EN\,DirectLink&amp\;fromId=HILTONLINKDIRECT">Booking Link</a></strong>&nbsp\;Guests can also call Hilton reservations at <a href="tel:800-445-8667">800-445-8667</a> or call the hotel directly at <a href="tel:608-255-5100">608-255-5100</a> and reference the&nbsp\;<strong>group code: 91Y.</strong><br />\n&nbsp\;<br />\n<strong style="font-family: arial\; font-size: 16px\;"><span style="color: rgb(128\, 0\, 128)\;">Sorry\, the Friday Wellness event is full! </span>Reach out to Lisa (lkratz@maba.org\, or <a href="tel:608-288-1134">608-288-1134</a>) to be put on a waiting list in case of cancellations.&nbsp\;</strong><span style="font-family: arial\; font-size: 16px\;">-- Start off&nbsp\;</span><strong style="font-family: arial\; font-size: 16px\;">Friday\, March 6&nbsp\;</strong><span style="font-family: arial\; font-size: 16px\;">(8:00am start time) at the Hilton Madison Monona Terrace&nbsp\;with a morning of wellness\, sponsored by Drexel Building Supply! Join us for a&nbsp\;</span><strong style="font-family: arial\; font-size: 16px\;"><span style="color: rgb(128\, 0\, 128)\;"><em>grounding\, educational session focused on understanding burnout\, stress\, and nervous system regulation -- followed by a restorative somatic breathwork and sound bath experience</em></span></strong><span style="font-family: arial\; font-size: 16px\;">. A light breakfast will also be served. This event is&nbsp\;</span><em style="font-family: arial\; font-size: 16px\;">free to attend\, but space is limited</em><span style="font-family: arial\; font-size: 16px\;">! After you register for the BuildX Conference\, scroll down to the Additional Items and click the +/- button to add on &quot\;March 6 Wellness Morning&quot\;.</span><br style="font-family: arial\; font-size: 16px\;" />\n<br />\n<span style="font-size:16px\;"><span style="font-family:arial\;">More information is available at <strong><a href="http://www.buildxwisconsin.com">www.BuildXWisconsin.com</a>.</strong></span></span><scribe-shadow data-crx="okfkdaglfjjjfefdcppliegebpoegaii" id="crxjs-ext" style="position: fixed\; width: 0px\; height: 0px\; top: 0px\; left: 0px\; z-index: 2147483647\; overflow: visible\; visibility: visible\;"></scribe-shadow>
LOCATION:Monona Terrace 1 John Nolen Drive\, Madison
UID:e.9187.625
SEQUENCE:3
DTSTAMP:20260424T034916Z
URL:http://member.maba.org/events/details/buildx-2026-women-in-the-construction-industry-wisconsin-conference-625
END:VEVENT

END:VCALENDAR
