BEGIN:VCALENDAR
VERSION:2.0
PRODID:-//ChamberMaster//Event Calendar 2.0//EN
METHOD:PUBLISH
X-PUBLISHED-TTL:P3D
REFRESH-INTERVAL:P3D
CALSCALE:GREGORIAN
BEGIN:VEVENT
DTSTART:20260429T163000Z
DTEND:20260429T203000Z
X-MICROSOFT-CDO-ALLDAYEVENT:FALSE
SUMMARY:2026 Spring Sporting Clays Classic
DESCRIPTION:Join Us for MABA's 9th Annual Sporting Clay Classic at Milford Hills!\n\nExperience the thrill of sporting clays at Milford Hills in Johnson Creek one of the premier hunt clubs in the Midwest! This top-tier destination for shooters and hunters offers a beautifully designed course. Expect a mix of trajectories\, angles\, speeds\, elevations\, and distances to keep things exciting!\n\nWhat's Included?\n\n   BBQ Lunch Buffet\n\n   Sporting Clays Course\n\n   2 Boxes of Ammo per Shooter\n\n   After-Shoot Cocktail & Appetizers\n\nNEW - Optional FLURRY! $100 additional cost (for teams of 4\, including ammo)\n\nA "flurry" is a fast-paced event where teams shoot at 50 clays released in rapid\, unpredictable succession -- limited only by the speed at which you can load your guns! \n\nDon't Wait to Register!\n\nMilford Hills requires our final headcount well in advance\, so register now you can provide team names later!\n\nNo team? No problem! Sign up as an individual\, and we'll match you up.\n\nGun Raffle\n\n  Two Drawings\, Two Winners!\n\n   $20 per ticket\n\n   Buy 5\, Get 2 Free!\n\nSecure your spot today and get ready for an unforgettable day of shooting\, camaraderie\, and great food!\n\n  Station Sponsor (Multiple Available): $250 - includes signage at sponsored station\, lunch for 2 (attendance at event is optional). Contact Lisa Kratz at lkratz@maba.org with questions.
X-ALT-DESC;FMTTYPE=text/html:<h3><strong>Join Us for MABA&#39\;s 9th Annual Sporting Clay Classic at Milford Hills!</strong></h3>\n\n<p>Experience the thrill of sporting clays at <strong>Milford Hills in Johnson Creek</strong>&mdash\;one of the premier hunt clubs in the Midwest! This top-tier destination for shooters and hunters offers a beautifully designed course. Expect a mix of trajectories\, angles\, speeds\, elevations\, and distances to keep things exciting!</p>\n\n<h3><strong>What&rsquo\;s Included?</strong></h3>\n\n<p>&#10004\;&#65039\; <strong>BBQ Lunch Buffet</strong><br />\n&#10004\;&#65039\; <strong>Sporting Clays Course</strong><br />\n&#10004\;&#65039\; <strong>2 Boxes of Ammo per Shooter</strong><br />\n&#10004\;&#65039\; <strong>After-Shoot Cocktail&nbsp\;&amp\; Appetizers</strong></p>\n\n<p><span style="color:#B22222\;"><strong>NEW - Optional FLURRY! $100 additional cost (for teams of 4\, including ammo)</strong></span><br />\nA &quot\;flurry&quot\; is a fast-paced event where teams shoot at 50 clays&nbsp\;released in rapid\, unpredictable succession -- limited only by the speed at which you can load your guns!&nbsp\;</p>\n\n<h3><strong>Don&rsquo\;t Wait to Register!</strong></h3>\n\n<p>Milford Hills requires our final headcount well in advance\, so <strong>register now</strong>&mdash\;you can provide team names later!</p>\n\n<p><strong>No team? No problem!</strong> Sign up as an individual\, and we&rsquo\;ll match you up.</p>\n\n<h3><strong>Gun Raffle</strong></h3>\n\n<p>&#127919\; <strong>Two Drawings\, Two Winners!</strong><br />\n&#127903\;&#65039\; <strong>$20 per ticket</strong><br />\n&#127903\;&#65039\; <strong>Buy 5\, Get 2 Free!</strong></p>\n\n<p>Secure your spot today and get ready for an unforgettable day of shooting\, camaraderie\, and great food!</p>\n\n<p>&#127919\;&nbsp\;<strong>Station Sponsor (Multiple Available):</strong>&nbsp\;$250 - includes signage at sponsored station\, lunch for 2 (attendance at event is optional).&nbsp\;Contact Lisa Kratz at&nbsp\;<strong><a href="mailto:lkratz@maba.org">lkratz@maba.org</a></strong>&nbsp\;with&nbsp\;questions.&nbsp\;</p>\n
LOCATION:Milford Hills - W5670 French Road\, Johnson Creek
UID:e.9187.657
SEQUENCE:3
DTSTAMP:20260424T000211Z
URL:https://member.maba.org/events/details/2026-spring-sporting-clays-classic-657
END:VEVENT

END:VCALENDAR
